BEGIN:VCALENDAR
VERSION:2.0
PRODID:-//ASKool - ECPv5.8.0//NONSGML v1.0//EN
CALSCALE:GREGORIAN
METHOD:PUBLISH
X-WR-CALNAME:ASKool
X-ORIGINAL-URL:https://www.askool.xyz
X-WR-CALDESC:Eventos para ASKool
BEGIN:VTIMEZONE
TZID:UTC
BEGIN:STANDARD
TZOFFSETFROM:+0000
TZOFFSETTO:+0000
TZNAME:UTC
DTSTART:20210101T000000
END:STANDARD
END:VTIMEZONE
BEGIN:VEVENT
DTSTART;TZID=UTC:20211119T170000
DTEND;TZID=UTC:20211120T193000
DTSTAMP:20260424T104733
CREATED:20210721T114554Z
LAST-MODIFIED:20211103T133722Z
UID:636-1637341200-1637436600@www.askool.xyz
SUMMARY:I Encuentro Nacional Online de Creatividad en Centros Educativos
DESCRIPTION:¿Eres DOCENTE? ¿Hasta dónde quieres que alce el vuelo y se amplie la creatividad en tu centro educativo? \n¡Más preguntas! ¿Crees que la creatividad forma parte de la esencia de la escuela? ¿Cómo es que siendo una cualidad que se presupone en el docente no forma parte de su formación? ¿Qué hace falta o cómo afectaría que el entrenamiento del pensamiento creativo fuera una materia más para el centro\, docentes\, alumnos o familias? \nDesde ASKool\, te invitamos a reflexionar\, compartir ideas y aprendizajes en este Primer Encuentro Nacional Online de Creatividad en Centros Educativos\, que tendrá lugar del 19 y 20 de noviembre. \nAquí puedes ver y descargar el programa en el que tendremos mesas redondas de muchas otras formas\, talleres de entrenamiento\, casos de éxito de centros educativos en creatividad y podréis conocer mucho más acerca de ASKool. Será un evento conducido por Fernando Bercebal y María Castillo. ¡Muy pronto subiremos más información sobre el evento y los invitados! \nApúntate como docente o alumno indicando tu centro educativo y no te pierdas este encuentro didáctico y práctico con invitados muy especiales. ¡Aprende\, diviértete\, interactúa y da un paso más en tu creatividad! \nHAZ CLIC EN EL SIGUIENTE ENLACE para tener todo la información sobre el Encuentro\, los invitados y forma de inscripción.\n \nCentros educativos \n \nUna vez inscrito compartiremos el enlace al evento a tu email. ¡Nos veremos en zoom! \n_ \nPROGRAMA DEL ENCUENTRO\nVIERNES 19 de noviembre de 2021\n \nEstiramiento\nPENSAMIENTO CREATIVO EN EL ÁMBITO EDUCATIVO \n17:00 – 18:00 Mesa redonda\nFernando Bercebal y María Castillo con Carlos Luna\, Tomás Motos \n18:00 – 19:30 Taller de Creatividad\nCarlos Luna \n19:30 – 20:00 Presentación caso de éxito\nCentro educativo IES Barrio Loranca de Fuenlabrada \nSÁBADO 20 de noviembre de 2021\n \nCalentamiento\nAMPLICACIONES DEL PENSAMIENTO CREATIVO \n10:00 – 11:30 Mesa redonda\nDaniel Erice (Ciencias)\, Donatella Danzi (Glotodidáctica) Iñigo Guibert (Música)\, Amaia (Comunicación visual y artes plásticas)\,  Mercedes Gutiérrez (Lengua y Literatura) \n11:30 – 12:30 Taller de Creatividad\nDaniel Erice \n12:30 – 13:00 Presentación caso de éxito\nCentro educativo \nPlan de Entrenamiento\nGIMNASIO CREATIVO PARA TU CENTRO FORMATIVO \n16:00 – 17:00 Mesa redonda\nFernando Bercebal\, María Castillo\, Francisco Javier Poveda y Francisco Carballo \n17:00 – 18:00 Taller de Creatividad\nFernando Bercebal y María Castillo \n18:00 – 19:30 Presentación caso de éxito\nCentro educativo \n18:30 – 19:00 Cierre del Encuentro\nResumen de reflexiones del encuentro \n \nOtra pregunta. ¿Esto es un globo\, una bombilla u otra cosa?
URL:https://www.askool.xyz/evento/1-encuentro-online-de-creatividad-en-centros-educativos/
CATEGORIES:Estiramiento
ATTACH;FMTTYPE=image/jpeg:https://www.askool.xyz/wp-content/uploads/2021/07/1-encuentro-nacional-creatividad-centros-educativos-ASKool-eventos.jpg
END:VEVENT
END:VCALENDAR