BEGIN:VCALENDAR
VERSION:2.0
PRODID:-//ASKool - ECPv5.8.0//NONSGML v1.0//EN
CALSCALE:GREGORIAN
METHOD:PUBLISH
X-WR-CALNAME:ASKool
X-ORIGINAL-URL:https://www.askool.xyz
X-WR-CALDESC:Eventos para ASKool
BEGIN:VTIMEZONE
TZID:UTC
BEGIN:STANDARD
TZOFFSETFROM:+0000
TZOFFSETTO:+0000
TZNAME:UTC
DTSTART:20240101T000000
END:STANDARD
END:VTIMEZONE
BEGIN:VEVENT
DTSTART;TZID=UTC:20240111T180000
DTEND;TZID=UTC:20240418T200000
DTSTAMP:20260421T050545
CREATED:20231017T084014Z
LAST-MODIFIED:20231017T090906Z
UID:4557-1704996000-1713470400@www.askool.xyz
SUMMARY:RUTINA INTENSIVA - Fortalecimiento
DESCRIPTION:Si un entrenamiento físico continuado aporta mejores resultados para tu salud\, ¿qué ocurriría si consigues un buen hábito de ejercicio de tu creatividad? \nAsí como como dedicarías al menos un momento a la semana para ir al gimnasio y prácticar deporte\, te proponemos darle un espacio de 2h a la semana a tu cerebro también para fortalecer su capacidad creativa. \nEn la Rutina Intensiva de ASKool consiste en 10 de sesiones de entrenamiento\, un total de 20h\, en las que comprenderás mejor en qué consiste entrenar la creativiad\, aprenderas técnicas y herramientas para mejorarla de una forma sistemática y fácil con la guía de un entrenador de ASKool\, jugaremos mucho\, estimularas tu curiosidad\, concoerás personas diversas\, será un momento para el autoconocimiento y provocaremos saltos creativos. ¡Haz que tu cerebro sea capaz de pensar de otras maneras!  \n¡Reserva tu plaza!\n \n\nGrupo Madrid: Los jueves de 18:00 a 20:00. Del 11 de enero al 14 de abril de 2024.\n\nHAZ CLICK en el enlace a la página del entrenamiento “RUTINA INTENSIVA”\, actividad de fortalecimiento\, para tener toda la información y poder hacer tu reserva.  \nRUTINA INTENSIVA
URL:https://www.askool.xyz/evento/rutina-intensiva-de-entrenamiento-2/
CATEGORIES:Fortalecimiento
ATTACH;FMTTYPE=image/jpeg:https://www.askool.xyz/wp-content/uploads/2021/10/rutina-intensiva.jpg
END:VEVENT
END:VCALENDAR